BEGIN:VCALENDAR
VERSION:2.0
PRODID:-//ExpressionEngine Easy iCalendar plugin//NONSGML v2.0.1//EN
X-WR-TIMEZONE:America/Chicago
X-WR-CALNAME:Upcoming Auctions
BEGIN:VEVENT
UID:160129
DTSTAMP:20260423T120000
DTSTART:20260423T120000
DTEND:20260518T190000
SUMMARY:Collectors & Shooters Firearms Auction
LOCATION:606 E. Booth Rd.\, Searcy\, AR 72143\, US
DESCRIPTION:You don't want to miss out on one of the finest collections 
 of firearms we have seen in years! Whether you are a collect
 or\, hunter\, or recreational shooter\, we've got something for
  you in this auction! Register & bid today! Be sure to downl
 oad the Cargile Auctions app to follow along with us. Biddin
 g will end on Monday\, May 18th. Items can be viewed at our o
 ffices by appointment\, or at the open house on Thursday\, May
  14th\, from 3PM until 6PM. No Transfer fees from Cargile Auc
 tions! Shipping Available!
URL:https://www.cargileauctions.com/auctions/detail/bw160129
SEQUENCE:1
END:VEVENT
END:VCALENDAR